Package: MuData Version: 1.13.0 Command: /home/biocbuild/R/R/bin/R CMD INSTALL MuData StartedAt: 2025-07-21 20:42:25 -0000 (Mon, 21 Jul 2025) EndedAt: 2025-07-21 20:42:58 -0000 (Mon, 21 Jul 2025) EllapsedTime: 33.1 seconds RetCode: 0 Status: OK