Package: MuData Version: 1.13.0 Command: /home/biocbuild/R/R/bin/R CMD build --keep-empty-dirs --no-resave-data MuData StartedAt: 2025-07-22 01:28:42 -0000 (Tue, 22 Jul 2025) EndedAt: 2025-07-22 01:31:43 -0000 (Tue, 22 Jul 2025) EllapsedTime: 181.1 seconds RetCode: 0 Status: OK PackageFile: MuData_1.13.0.tar.gz PackageFileSize: 1.506 MiB