Package: MsQuality Version: 1.9.0 Command: /home/biocbuild/R/R/bin/R CMD check --install=check:MsQuality.install-out.txt --library=/home/biocbuild/R/R/site-library --no-vignettes --timings MsQuality_1.9.0.tar.gz StartedAt: 2025-07-22 09:33:53 -0000 (Tue, 22 Jul 2025) EndedAt: 2025-07-22 10:13:12 -0000 (Tue, 22 Jul 2025) EllapsedTime: 2358.7 seconds RetCode: 1 Status: ERROR CheckDir: MsQuality.Rcheck Warnings: NA