Package: MsQuality Version: 1.9.0 Command: F:\biocbuild\bbs-3.22-bioc\R\bin\R.exe CMD INSTALL MsQuality StartedAt: 2025-07-24 16:29:30 -0400 (Thu, 24 Jul 2025) EndedAt: 2025-07-24 16:30:23 -0400 (Thu, 24 Jul 2025) EllapsedTime: 52.7 seconds RetCode: 0 Status: OK