Package: MsQuality Version: 1.9.0 Command: chmod a+r MsQuality -R && F:\biocbuild\bbs-3.22-bioc\R\bin\R.exe CMD build --keep-empty-dirs --no-resave-data MsQuality StartedAt: 2025-07-24 20:49:09 -0400 (Thu, 24 Jul 2025) EndedAt: 2025-07-24 20:52:03 -0400 (Thu, 24 Jul 2025) EllapsedTime: 174.1 seconds RetCode: 0 Status: OK PackageFile: MsQuality_1.9.0.tar.gz PackageFileSize: 4.244 MiB