Package: MsQuality Version: 1.9.0 Command: rm -rf MsQuality.buildbin-libdir && mkdir MsQuality.buildbin-libdir && F:\biocbuild\bbs-3.22-bioc\R\bin\R.exe CMD INSTALL --build --library=MsQuality.buildbin-libdir MsQuality_1.9.0.tar.gz StartedAt: 2025-07-25 09:46:17 -0400 (Fri, 25 Jul 2025) EndedAt: 2025-07-25 09:47:08 -0400 (Fri, 25 Jul 2025) EllapsedTime: 51.5 seconds RetCode: 0 Status: OK PackageFile: MsQuality_1.9.0.zip PackageFileSize: 4.385 MiB