Package: MsQuality Version: 1.9.0 Command: /Library/Frameworks/R.framework/Resources/bin/R CMD check --install=check:MsQuality.install-out.txt --library=/Library/Frameworks/R.framework/Resources/library --no-vignettes --timings MsQuality_1.9.0.tar.gz StartedAt: 2025-07-14 20:21:17 -0400 (Mon, 14 Jul 2025) EndedAt: 2025-07-14 20:23:45 -0400 (Mon, 14 Jul 2025) EllapsedTime: 147.7 seconds RetCode: 0 Status: OK CheckDir: MsQuality.Rcheck Warnings: 0