Package: MsDataHub Version: 1.9.0 Command: F:\biocbuild\bbs-3.22-bioc\R\bin\R.exe CMD INSTALL MsDataHub StartedAt: 2025-07-14 16:04:05 -0400 (Mon, 14 Jul 2025) EndedAt: 2025-07-14 16:04:26 -0400 (Mon, 14 Jul 2025) EllapsedTime: 21.9 seconds RetCode: 0 Status: OK