Package: MsDataHub Version: 1.9.0 Command: rm -rf MsDataHub.buildbin-libdir && mkdir MsDataHub.buildbin-libdir && F:\biocbuild\bbs-3.22-bioc\R\bin\R.exe CMD INSTALL --build --library=MsDataHub.buildbin-libdir MsDataHub_1.9.0.tar.gz StartedAt: 2025-07-15 09:26:08 -0400 (Tue, 15 Jul 2025) EndedAt: 2025-07-15 09:26:29 -0400 (Tue, 15 Jul 2025) EllapsedTime: 21.0 seconds RetCode: 0 Status: OK PackageFile: MsDataHub_1.9.0.zip PackageFileSize: 398.4 KiB