Package: MsBackendSql Version: 1.9.0 Command: /Library/Frameworks/R.framework/Resources/bin/R CMD INSTALL MsBackendSql StartedAt: 2025-07-15 15:28:09 -0400 (Tue, 15 Jul 2025) EndedAt: 2025-07-15 15:28:26 -0400 (Tue, 15 Jul 2025) EllapsedTime: 16.5 seconds RetCode: 0 Status: OK