Package: MsBackendMsp Version: 1.13.0 Command: /home/biocbuild/R/R/bin/R CMD check --install=check:MsBackendMsp.install-out.txt --library=/home/biocbuild/R/R/site-library --no-vignettes --timings MsBackendMsp_1.13.0.tar.gz StartedAt: 2025-06-27 09:23:06 -0000 (Fri, 27 Jun 2025) EndedAt: 2025-06-27 09:24:39 -0000 (Fri, 27 Jun 2025) EllapsedTime: 93.1 seconds RetCode: 0 Status: OK CheckDir: MsBackendMsp.Rcheck Warnings: 0