Package: MsBackendMsp Version: 1.13.0 Command: chmod a+r MsBackendMsp -R && F:\biocbuild\bbs-3.22-bioc\R\bin\R.exe CMD build --keep-empty-dirs --no-resave-data MsBackendMsp StartedAt: 2025-06-29 20:32:32 -0400 (Sun, 29 Jun 2025) EndedAt: 2025-06-29 20:32:58 -0400 (Sun, 29 Jun 2025) EllapsedTime: 27.0 seconds RetCode: 0 Status: OK PackageFile: MsBackendMsp_1.13.0.tar.gz PackageFileSize: 324.9 KiB