Package: MsBackendMgf Version: 1.17.0 Command: /home/biocbuild/R/R/bin/R CMD build --keep-empty-dirs --no-resave-data MsBackendMgf StartedAt: 2025-07-01 01:20:42 -0000 (Tue, 01 Jul 2025) EndedAt: 2025-07-01 01:21:05 -0000 (Tue, 01 Jul 2025) EllapsedTime: 23.0 seconds RetCode: 0 Status: OK PackageFile: MsBackendMgf_1.17.0.tar.gz PackageFileSize: 402.6 KiB