Package: MsBackendMgf Version: 1.17.0 Command: F:\biocbuild\bbs-3.22-bioc\R\bin\R.exe CMD INSTALL MsBackendMgf StartedAt: 2025-07-13 15:44:33 -0400 (Sun, 13 Jul 2025) EndedAt: 2025-07-13 15:44:50 -0400 (Sun, 13 Jul 2025) EllapsedTime: 17.4 seconds RetCode: 0 Status: OK