Package: MsBackendMgf Version: 1.17.0 Command: F:\biocbuild\bbs-3.22-bioc\R\bin\R.exe CMD check --no-multiarch --install=check:MsBackendMgf.install-out.txt --library=F:\biocbuild\bbs-3.22-bioc\R\library --no-vignettes --timings MsBackendMgf_1.17.0.tar.gz StartedAt: 2025-07-14 04:19:09 -0400 (Mon, 14 Jul 2025) EndedAt: 2025-07-14 04:20:59 -0400 (Mon, 14 Jul 2025) EllapsedTime: 109.7 seconds RetCode: 0 Status: OK CheckDir: MsBackendMgf.Rcheck Warnings: 0