Package: MsBackendMgf Version: 1.17.0 Command: /home/biocbuild/bbs-3.22-bioc/R/bin/R CMD check --install=check:MsBackendMgf.install-out.txt --library=/home/biocbuild/bbs-3.22-bioc/R/site-library --timings MsBackendMgf_1.17.0.tar.gz StartedAt: 2025-06-30 00:18:30 -0400 (Mon, 30 Jun 2025) EndedAt: 2025-06-30 00:19:50 -0400 (Mon, 30 Jun 2025) EllapsedTime: 80.1 seconds RetCode: 0 Status: OK CheckDir: MsBackendMgf.Rcheck Warnings: 0