Package: MsBackendMgf Version: 1.17.0 Command: /Library/Frameworks/R.framework/Resources/bin/R CMD INSTALL MsBackendMgf StartedAt: 2025-06-29 15:15:38 -0400 (Sun, 29 Jun 2025) EndedAt: 2025-06-29 15:15:53 -0400 (Sun, 29 Jun 2025) EllapsedTime: 15.1 seconds RetCode: 0 Status: OK