Package: MsBackendMgf Version: 1.17.0 Command: /Library/Frameworks/R.framework/Resources/bin/R CMD check --install=check:MsBackendMgf.install-out.txt --library=/Library/Frameworks/R.framework/Resources/library --no-vignettes --timings MsBackendMgf_1.17.0.tar.gz StartedAt: 2025-06-29 21:51:13 -0400 (Sun, 29 Jun 2025) EndedAt: 2025-06-29 21:52:42 -0400 (Sun, 29 Jun 2025) EllapsedTime: 88.2 seconds RetCode: 0 Status: OK CheckDir: MsBackendMgf.Rcheck Warnings: 0