Package: MsBackendMgf Version: 1.17.0 Command: rm -rf MsBackendMgf.buildbin-libdir && mkdir MsBackendMgf.buildbin-libdir && /Users/biocbuild/BBS/utils/build-universal.sh MsBackendMgf_1.17.0.tar.gz /Library/Frameworks/R.framework/Resources/bin/R MsBackendMgf.buildbin-libdir StartedAt: 2025-06-30 00:49:37 -0400 (Mon, 30 Jun 2025) EndedAt: 2025-06-30 00:49:53 -0400 (Mon, 30 Jun 2025) EllapsedTime: 16.1 seconds RetCode: 0 Status: OK PackageFile: MsBackendMgf_1.17.0.tgz PackageFileSize: 382.9 KiB