Package: MsBackendMgf Version: 1.17.0 Command: /Library/Frameworks/R.framework/Resources/bin/R CMD INSTALL MsBackendMgf StartedAt: 2025-06-29 15:08:42 -0400 (Sun, 29 Jun 2025) EndedAt: 2025-06-29 15:08:47 -0400 (Sun, 29 Jun 2025) EllapsedTime: 4.3 seconds RetCode: 0 Status: OK