Package: MotifPeeker Version: 1.1.2 Command: /home/biocbuild/R/R/bin/R CMD check --install=check:MotifPeeker.install-out.txt --library=/home/biocbuild/R/R/site-library --no-vignettes --timings MotifPeeker_1.1.2.tar.gz StartedAt: 2025-07-08 08:46:26 -0000 (Tue, 08 Jul 2025) EndedAt: 2025-07-08 09:26:26 -0000 (Tue, 08 Jul 2025) EllapsedTime: 2400.5 seconds RetCode: None Status: TIMEOUT CheckDir: MotifPeeker.Rcheck Warnings: NA