Package: MotifPeeker Version: 1.1.2 Command: /home/biocbuild/bbs-3.22-bioc/R/bin/R CMD INSTALL MotifPeeker StartedAt: 2025-07-07 15:25:53 -0400 (Mon, 07 Jul 2025) EndedAt: 2025-07-07 15:26:35 -0400 (Mon, 07 Jul 2025) EllapsedTime: 41.8 seconds RetCode: 0 Status: OK