Package: MotifPeeker Version: 1.1.2 Command: /Library/Frameworks/R.framework/Resources/bin/R CMD check --install=check:MotifPeeker.install-out.txt --library=/Library/Frameworks/R.framework/Resources/library --no-vignettes --timings MotifPeeker_1.1.2.tar.gz StartedAt: 2025-07-17 22:00:27 -0400 (Thu, 17 Jul 2025) EndedAt: 2025-07-17 22:15:09 -0400 (Thu, 17 Jul 2025) EllapsedTime: 881.2 seconds RetCode: 0 Status: OK CheckDir: MotifPeeker.Rcheck Warnings: 0