Package: MotifPeeker Version: 1.1.2 Command: /Library/Frameworks/R.framework/Resources/bin/R CMD INSTALL MotifPeeker StartedAt: 2025-07-07 15:16:04 -0400 (Mon, 07 Jul 2025) EndedAt: 2025-07-07 15:16:21 -0400 (Mon, 07 Jul 2025) EllapsedTime: 16.7 seconds RetCode: 0 Status: OK