Package: MotifDb Version: 1.51.0 Command: /home/biocbuild/R/R/bin/R CMD check --install=check:MotifDb.install-out.txt --library=/home/biocbuild/R/R/site-library --no-vignettes --timings MotifDb_1.51.0.tar.gz StartedAt: 2025-10-03 09:15:49 -0000 (Fri, 03 Oct 2025) EndedAt: 2025-10-03 09:23:30 -0000 (Fri, 03 Oct 2025) EllapsedTime: 461.6 seconds RetCode: 0 Status: WARNINGS CheckDir: MotifDb.Rcheck Warnings: 2