Package: MotifDb Version: 1.51.0 Command: /home/biocbuild/R/R/bin/R CMD build --keep-empty-dirs --no-resave-data MotifDb StartedAt: 2025-10-03 01:34:37 -0000 (Fri, 03 Oct 2025) EndedAt: 2025-10-03 01:35:58 -0000 (Fri, 03 Oct 2025) EllapsedTime: 81.0 seconds RetCode: 0 Status: OK PackageFile: MotifDb_1.51.0.tar.gz PackageFileSize: 4.167 MiB