Package: MotifDb Version: 1.51.0 Command: rm -rf MotifDb.buildbin-libdir && mkdir MotifDb.buildbin-libdir && F:\biocbuild\bbs-3.22-bioc\R\bin\R.exe CMD INSTALL --build --library=MotifDb.buildbin-libdir MotifDb_1.51.0.tar.gz StartedAt: 2025-08-15 10:45:07 -0400 (Fri, 15 Aug 2025) EndedAt: 2025-08-15 10:46:02 -0400 (Fri, 15 Aug 2025) EllapsedTime: 55.1 seconds RetCode: 0 Status: OK PackageFile: MotifDb_1.51.0.zip PackageFileSize: 4.476 MiB