Package: MotifDb Version: 1.51.0 Command: /Library/Frameworks/R.framework/Resources/bin/R CMD INSTALL MotifDb StartedAt: 2025-07-20 15:16:23 -0400 (Sun, 20 Jul 2025) EndedAt: 2025-07-20 15:16:40 -0400 (Sun, 20 Jul 2025) EllapsedTime: 17.4 seconds RetCode: 0 Status: OK