Package: MotifDb Version: 1.51.0 Command: /Library/Frameworks/R.framework/Resources/bin/R CMD build --keep-empty-dirs --no-resave-data MotifDb StartedAt: 2025-07-20 17:00:01 -0400 (Sun, 20 Jul 2025) EndedAt: 2025-07-20 17:00:26 -0400 (Sun, 20 Jul 2025) EllapsedTime: 25.3 seconds RetCode: 0 Status: OK PackageFile: MotifDb_1.51.0.tar.gz PackageFileSize: 4.237 MiB