Package: MotifDb Version: 1.51.0 Maintainer: Paul Shannon MaintainerEmail: pshannon at systemsbiology.org git_url: https://git.bioconductor.org/packages/MotifDb git_branch: devel git_last_commit: 2160961 git_last_commit_date: 2025-04-15 10:14:59 -0400 (Tue, 15 Apr 2025)