Package: Motif2Site Version: 1.13.0 Command: /Library/Frameworks/R.framework/Resources/bin/R CMD check --install=check:Motif2Site.install-out.txt --library=/Library/Frameworks/R.framework/Resources/library --no-vignettes --timings Motif2Site_1.13.0.tar.gz StartedAt: 2025-07-11 22:04:26 -0400 (Fri, 11 Jul 2025) EndedAt: 2025-07-11 22:14:37 -0400 (Fri, 11 Jul 2025) EllapsedTime: 611.5 seconds RetCode: 0 Status: OK CheckDir: Motif2Site.Rcheck Warnings: 0