Package: Moonlight2R Version: 1.7.0 Command: /home/biocbuild/R/R/bin/R CMD INSTALL Moonlight2R StartedAt: 2025-06-26 21:12:08 -0000 (Thu, 26 Jun 2025) EndedAt: 2025-06-26 21:13:14 -0000 (Thu, 26 Jun 2025) EllapsedTime: 66.8 seconds RetCode: 0 Status: OK