Package: Moonlight2R Version: 1.7.0 Command: /home/biocbuild/R/R/bin/R CMD check --install=check:Moonlight2R.install-out.txt --library=/home/biocbuild/R/R/site-library --no-vignettes --timings Moonlight2R_1.7.0.tar.gz StartedAt: 2025-06-27 09:16:03 -0000 (Fri, 27 Jun 2025) EndedAt: 2025-06-27 09:30:07 -0000 (Fri, 27 Jun 2025) EllapsedTime: 844.7 seconds RetCode: 0 Status: OK CheckDir: Moonlight2R.Rcheck Warnings: 0