Package: Moonlight2R Version: 1.7.0 Command: /home/biocbuild/R/R/bin/R CMD build --keep-empty-dirs --no-resave-data Moonlight2R StartedAt: 2025-06-27 01:03:25 -0000 (Fri, 27 Jun 2025) EndedAt: 2025-06-27 01:11:41 -0000 (Fri, 27 Jun 2025) EllapsedTime: 496.2 seconds RetCode: 0 Status: OK PackageFile: Moonlight2R_1.7.0.tar.gz PackageFileSize: 4.836 MiB