Package: Moonlight2R Version: 1.7.0 Command: chmod a+r Moonlight2R -R && F:\biocbuild\bbs-3.22-bioc\R\bin\R.exe CMD build --keep-empty-dirs --no-resave-data Moonlight2R StartedAt: 2025-07-24 20:41:18 -0400 (Thu, 24 Jul 2025) EndedAt: 2025-07-24 20:45:54 -0400 (Thu, 24 Jul 2025) EllapsedTime: 276.1 seconds RetCode: 1 Status: ERROR PackageFile: None PackageFileSize: NA