Package: Moonlight2R Version: 1.7.0 Command: rm -rf Moonlight2R.buildbin-libdir && mkdir Moonlight2R.buildbin-libdir && F:\biocbuild\bbs-3.22-bioc\R\bin\R.exe CMD INSTALL --build --library=Moonlight2R.buildbin-libdir Moonlight2R_1.7.0.tar.gz StartedAt: 2025-07-22 09:35:01 -0400 (Tue, 22 Jul 2025) EndedAt: 2025-07-22 09:36:41 -0400 (Tue, 22 Jul 2025) EllapsedTime: 99.8 seconds RetCode: 0 Status: OK PackageFile: Moonlight2R_1.7.0.zip PackageFileSize: 4.599 MiB