Package: Moonlight2R Version: 1.7.0 Command: /Library/Frameworks/R.framework/Resources/bin/R CMD INSTALL Moonlight2R StartedAt: 2025-07-07 15:42:01 -0400 (Mon, 07 Jul 2025) EndedAt: 2025-07-07 15:43:13 -0400 (Mon, 07 Jul 2025) EllapsedTime: 72.6 seconds RetCode: 0 Status: OK