Package: Moonlight2R Version: 1.7.0 Command: rm -rf Moonlight2R.buildbin-libdir && mkdir Moonlight2R.buildbin-libdir && /Users/biocbuild/BBS/utils/build-universal.sh Moonlight2R_1.7.0.tar.gz /Library/Frameworks/R.framework/Resources/bin/R Moonlight2R.buildbin-libdir StartedAt: 2025-07-08 01:03:05 -0400 (Tue, 08 Jul 2025) EndedAt: 2025-07-08 01:04:22 -0400 (Tue, 08 Jul 2025) EllapsedTime: 76.3 seconds RetCode: 0 Status: OK PackageFile: Moonlight2R_1.7.0.tgz PackageFileSize: 4.618 MiB