Package: MoleculeExperiment Version: 1.9.0 Command: F:\biocbuild\bbs-3.22-bioc\R\bin\R.exe CMD INSTALL MoleculeExperiment StartedAt: 2025-07-01 17:07:58 -0400 (Tue, 01 Jul 2025) EndedAt: 2025-07-01 17:10:44 -0400 (Tue, 01 Jul 2025) EllapsedTime: 165.5 seconds RetCode: 0 Status: OK