Package: MoleculeExperiment Version: 1.9.0 Command: chmod a+r MoleculeExperiment -R && F:\biocbuild\bbs-3.22-bioc\R\bin\R.exe CMD build --keep-empty-dirs --no-resave-data MoleculeExperiment StartedAt: 2025-07-01 20:27:08 -0400 (Tue, 01 Jul 2025) EndedAt: 2025-07-01 20:30:27 -0400 (Tue, 01 Jul 2025) EllapsedTime: 198.4 seconds RetCode: 0 Status: OK PackageFile: MoleculeExperiment_1.9.0.tar.gz PackageFileSize: 12.82 MiB