Package: MinimumDistance Version: 1.53.0 Command: F:\biocbuild\bbs-3.22-bioc\R\bin\R.exe CMD INSTALL MinimumDistance StartedAt: 2025-07-24 16:42:28 -0400 (Thu, 24 Jul 2025) EndedAt: 2025-07-24 16:47:43 -0400 (Thu, 24 Jul 2025) EllapsedTime: 315.5 seconds RetCode: 0 Status: OK