Package: MinimumDistance Version: 1.53.0 Command: chmod a+r MinimumDistance -R && F:\biocbuild\bbs-3.22-bioc\R\bin\R.exe CMD build --keep-empty-dirs --no-resave-data MinimumDistance StartedAt: 2025-07-24 20:34:34 -0400 (Thu, 24 Jul 2025) EndedAt: 2025-07-24 20:37:17 -0400 (Thu, 24 Jul 2025) EllapsedTime: 163.0 seconds RetCode: 0 Status: OK PackageFile: MinimumDistance_1.53.0.tar.gz PackageFileSize: 2.401 MiB