Package: MinimumDistance Version: 1.53.0 Command: rm -rf MinimumDistance.buildbin-libdir && mkdir MinimumDistance.buildbin-libdir && F:\biocbuild\bbs-3.22-bioc\R\bin\R.exe CMD INSTALL --build --library=MinimumDistance.buildbin-libdir MinimumDistance_1.53.0.tar.gz StartedAt: 2025-07-25 09:41:35 -0400 (Fri, 25 Jul 2025) EndedAt: 2025-07-25 09:48:37 -0400 (Fri, 25 Jul 2025) EllapsedTime: 422.5 seconds RetCode: 0 Status: OK PackageFile: MinimumDistance_1.53.0.zip PackageFileSize: 3.514 MiB