Package: MineICA Version: 1.49.0 Command: /home/biocbuild/R/R/bin/R CMD check --install=check:MineICA.install-out.txt --library=/home/biocbuild/R/R/site-library --no-vignettes --timings MineICA_1.49.0.tar.gz StartedAt: 2025-10-10 10:48:36 -0000 (Fri, 10 Oct 2025) EndedAt: 2025-10-10 10:53:43 -0000 (Fri, 10 Oct 2025) EllapsedTime: 307.3 seconds RetCode: 0 Status: WARNINGS CheckDir: MineICA.Rcheck Warnings: 3