Package: MineICA Version: 1.49.0 Command: /Library/Frameworks/R.framework/Resources/bin/R CMD check --install=check:MineICA.install-out.txt --library=/Library/Frameworks/R.framework/Resources/library --no-vignettes --timings MineICA_1.49.0.tar.gz StartedAt: 2025-07-11 21:55:47 -0400 (Fri, 11 Jul 2025) EndedAt: 2025-07-11 22:00:26 -0400 (Fri, 11 Jul 2025) EllapsedTime: 278.8 seconds RetCode: 0 Status: WARNINGS CheckDir: MineICA.Rcheck Warnings: 3