Package: MineICA Version: 1.49.0 Command: /Library/Frameworks/R.framework/Resources/bin/R CMD INSTALL MineICA StartedAt: 2025-07-24 15:41:14 -0400 (Thu, 24 Jul 2025) EndedAt: 2025-07-24 15:41:28 -0400 (Thu, 24 Jul 2025) EllapsedTime: 13.7 seconds RetCode: 0 Status: OK