Package: MicrobiotaProcess Version: 1.21.0 Command: /home/biocbuild/R/R/bin/R CMD check --install=check:MicrobiotaProcess.install-out.txt --library=/home/biocbuild/R/R/site-library --no-vignettes --timings MicrobiotaProcess_1.21.0.tar.gz StartedAt: 2025-07-11 10:01:02 -0000 (Fri, 11 Jul 2025) EndedAt: 2025-07-11 10:07:54 -0000 (Fri, 11 Jul 2025) EllapsedTime: 411.3 seconds RetCode: 0 Status: OK CheckDir: MicrobiotaProcess.Rcheck Warnings: 0