Package: MicrobiomeProfiler Version: 1.15.0 Command: chmod a+r MicrobiomeProfiler -R && F:\biocbuild\bbs-3.22-bioc\R\bin\R.exe CMD build --keep-empty-dirs --no-resave-data MicrobiomeProfiler StartedAt: 2025-07-07 20:18:05 -0400 (Mon, 07 Jul 2025) EndedAt: 2025-07-07 20:18:52 -0400 (Mon, 07 Jul 2025) EllapsedTime: 47.6 seconds RetCode: 0 Status: OK PackageFile: MicrobiomeProfiler_1.15.0.tar.gz PackageFileSize: 1.051 MiB