Package: MicrobiomeProfiler Version: 1.15.0 Command: rm -rf MicrobiomeProfiler.buildbin-libdir && mkdir MicrobiomeProfiler.buildbin-libdir && F:\biocbuild\bbs-3.22-bioc\R\bin\R.exe CMD INSTALL --build --library=MicrobiomeProfiler.buildbin-libdir MicrobiomeProfiler_1.15.0.tar.gz StartedAt: 2025-07-08 09:20:17 -0400 (Tue, 08 Jul 2025) EndedAt: 2025-07-08 09:22:29 -0400 (Tue, 08 Jul 2025) EllapsedTime: 131.8 seconds RetCode: 0 Status: OK PackageFile: MicrobiomeProfiler_1.15.0.zip PackageFileSize: 952.4 KiB