Package: MicrobiomeProfiler Version: 1.15.0 Command: /Library/Frameworks/R.framework/Resources/bin/R CMD INSTALL MicrobiomeProfiler StartedAt: 2025-10-05 15:25:16 -0400 (Sun, 05 Oct 2025) EndedAt: 2025-10-05 15:25:25 -0400 (Sun, 05 Oct 2025) EllapsedTime: 9.4 seconds RetCode: 0 Status: OK